Package: iSEEfier Version: 1.5.0 Command: /Library/Frameworks/R.framework/Resources/bin/R CMD INSTALL iSEEfier StartedAt: 2025-10-12 15:15:32 -0400 (Sun, 12 Oct 2025) EndedAt: 2025-10-12 15:15:44 -0400 (Sun, 12 Oct 2025) EllapsedTime: 12.4 seconds RetCode: 0 Status: OK