Package: iSEEde Version: 1.9.0 Command: /home/biocbuild/bbs-3.23-bioc/R/bin/R CMD INSTALL iSEEde StartedAt: 2025-11-20 15:25:01 -0500 (Thu, 20 Nov 2025) EndedAt: 2025-11-20 15:25:35 -0500 (Thu, 20 Nov 2025) EllapsedTime: 34.4 seconds RetCode: 0 Status: OK