Package: iSEEde Version: 1.9.0 Command: /home/biocbuild/bbs-3.23-bioc/R/bin/R CMD build --keep-empty-dirs --no-resave-data iSEEde StartedAt: 2025-11-20 18:15:13 -0500 (Thu, 20 Nov 2025) EndedAt: 2025-11-20 18:17:11 -0500 (Thu, 20 Nov 2025) EllapsedTime: 118.1 seconds RetCode: 0 Status: OK PackageFile: iSEEde_1.9.0.tar.gz PackageFileSize: 3.089 MiB