Package: iSEEde Version: 1.9.0 Command: /Library/Frameworks/R.framework/Resources/bin/R CMD INSTALL iSEEde StartedAt: 2025-11-21 15:31:41 -0500 (Fri, 21 Nov 2025) EndedAt: 2025-11-21 15:32:28 -0500 (Fri, 21 Nov 2025) EllapsedTime: 47.7 seconds RetCode: 0 Status: OK