Package: iSEEde Version: 1.9.0 Command: /Library/Frameworks/R.framework/Resources/bin/R CMD build --keep-empty-dirs --no-resave-data iSEEde StartedAt: 2025-11-20 17:27:57 -0500 (Thu, 20 Nov 2025) EndedAt: 2025-11-20 17:30:17 -0500 (Thu, 20 Nov 2025) EllapsedTime: 140.5 seconds RetCode: 0 Status: OK PackageFile: iSEEde_1.9.0.tar.gz PackageFileSize: 3.09 MiB