Package: iSEEde Version: 1.9.0 Command: rm -rf iSEEde.buildbin-libdir && mkdir iSEEde.buildbin-libdir && /Users/biocbuild/BBS/utils/build-universal.sh iSEEde_1.9.0.tar.gz /Library/Frameworks/R.framework/Resources/bin/R iSEEde.buildbin-libdir StartedAt: 2025-11-21 01:39:21 -0500 (Fri, 21 Nov 2025) EndedAt: 2025-11-21 01:40:13 -0500 (Fri, 21 Nov 2025) EllapsedTime: 51.8 seconds RetCode: 0 Status: OK PackageFile: iSEEde_1.9.0.tgz PackageFileSize: 2.418 MiB