Package: iSEEde Version: 1.7.0 Command: /Library/Frameworks/R.framework/Resources/bin/R CMD INSTALL iSEEde StartedAt: 2025-10-23 15:16:04 -0400 (Thu, 23 Oct 2025) EndedAt: 2025-10-23 15:16:18 -0400 (Thu, 23 Oct 2025) EllapsedTime: 13.4 seconds RetCode: 0 Status: OK