Package: iSEE Version: 2.21.1 Command: /home/biocbuild/bbs-3.22-bioc/R/bin/R CMD INSTALL iSEE StartedAt: 2025-10-03 15:22:40 -0400 (Fri, 03 Oct 2025) EndedAt: 2025-10-03 15:23:20 -0400 (Fri, 03 Oct 2025) EllapsedTime: 39.9 seconds RetCode: 0 Status: OK