Package: iSEE Version: 2.21.1 Command: /home/biocbuild/bbs-3.22-bioc/R/bin/R CMD build --keep-empty-dirs --no-resave-data --md5 iSEE StartedAt: 2025-10-03 18:14:33 -0400 (Fri, 03 Oct 2025) EndedAt: 2025-10-03 18:16:39 -0400 (Fri, 03 Oct 2025) EllapsedTime: 126.2 seconds RetCode: 0 Status: OK PackageFile: iSEE_2.21.1.tar.gz PackageFileSize: 25.62 MiB