Package: iSEE Version: 2.23.1 Command: /home/biocbuild/bbs-3.23-bioc/R/bin/R CMD INSTALL iSEE StartedAt: 2025-11-20 15:23:15 -0500 (Thu, 20 Nov 2025) EndedAt: 2025-11-20 15:23:57 -0500 (Thu, 20 Nov 2025) EllapsedTime: 42.0 seconds RetCode: 0 Status: OK