Package: iSEE Version: 2.23.1 Command: /home/biocbuild/bbs-3.23-bioc/R/bin/R CMD build --keep-empty-dirs --no-resave-data iSEE StartedAt: 2025-11-20 18:15:02 -0500 (Thu, 20 Nov 2025) EndedAt: 2025-11-20 18:17:05 -0500 (Thu, 20 Nov 2025) EllapsedTime: 123.1 seconds RetCode: 0 Status: OK PackageFile: iSEE_2.23.1.tar.gz PackageFileSize: 25.61 MiB