Package: iSEE Version: 2.21.1 Command: /Library/Frameworks/R.framework/Resources/bin/R CMD INSTALL iSEE StartedAt: 2025-10-28 15:26:52 -0400 (Tue, 28 Oct 2025) EndedAt: 2025-10-28 15:27:47 -0400 (Tue, 28 Oct 2025) EllapsedTime: 55.5 seconds RetCode: 0 Status: OK