Package: iSEE Version: 2.21.1 Command: rm -rf iSEE.buildbin-libdir && mkdir iSEE.buildbin-libdir && /Users/biocbuild/BBS/utils/build-universal.sh iSEE_2.21.1.tar.gz /Library/Frameworks/R.framework/Resources/bin/R iSEE.buildbin-libdir StartedAt: 2025-10-29 01:40:41 -0400 (Wed, 29 Oct 2025) EndedAt: 2025-10-29 01:41:46 -0400 (Wed, 29 Oct 2025) EllapsedTime: 65.6 seconds RetCode: 0 Status: OK PackageFile: iSEE_2.21.1.tgz PackageFileSize: 22.44 MiB