Package: iSEE Version: 2.21.1 Command: /Library/Frameworks/R.framework/Resources/bin/R CMD INSTALL iSEE StartedAt: 2025-10-03 15:15:00 -0400 (Fri, 03 Oct 2025) EndedAt: 2025-10-03 15:15:16 -0400 (Fri, 03 Oct 2025) EllapsedTime: 16.0 seconds RetCode: 0 Status: OK