Package: iSEE Version: 2.21.1 Command: rm -rf iSEE.buildbin-libdir && mkdir iSEE.buildbin-libdir && /Users/biocbuild/BBS/utils/build-universal.sh iSEE_2.21.1.tar.gz /Library/Frameworks/R.framework/Resources/bin/R iSEE.buildbin-libdir StartedAt: 2025-10-03 22:43:21 -0400 (Fri, 03 Oct 2025) EndedAt: 2025-10-03 22:43:41 -0400 (Fri, 03 Oct 2025) EllapsedTime: 20.4 seconds RetCode: 0 Status: OK PackageFile: iSEE_2.21.1.tgz PackageFileSize: 22.45 MiB