Package: iPath Version: 1.17.0 Command: /home/biocbuild/bbs-3.23-bioc/R/bin/R CMD INSTALL iPath StartedAt: 2025-11-07 15:11:18 -0500 (Fri, 07 Nov 2025) EndedAt: 2025-11-07 15:11:42 -0500 (Fri, 07 Nov 2025) EllapsedTime: 23.6 seconds RetCode: 0 Status: OK