Package: iPath Version: 1.17.0 Command: /home/biocbuild/bbs-3.23-bioc/R/bin/R CMD build --keep-empty-dirs --no-resave-data iPath StartedAt: 2025-11-07 18:11:01 -0500 (Fri, 07 Nov 2025) EndedAt: 2025-11-07 18:11:33 -0500 (Fri, 07 Nov 2025) EllapsedTime: 32.0 seconds RetCode: 1 Status: ERROR PackageFile: None PackageFileSize: NA