Package: iPath Version: 1.15.0 Command: /Library/Frameworks/R.framework/Resources/bin/R CMD INSTALL iPath StartedAt: 2025-10-08 15:17:08 -0400 (Wed, 08 Oct 2025) EndedAt: 2025-10-08 15:17:40 -0400 (Wed, 08 Oct 2025) EllapsedTime: 31.4 seconds RetCode: 0 Status: OK