Package: iPath Version: 1.15.0 Command: rm -rf iPath.buildbin-libdir && mkdir iPath.buildbin-libdir && /Users/biocbuild/BBS/utils/build-universal.sh iPath_1.15.0.tar.gz /Library/Frameworks/R.framework/Resources/bin/R iPath.buildbin-libdir StartedAt: 2025-09-11 02:15:48 -0400 (Thu, 11 Sep 2025) EndedAt: 2025-09-11 02:16:18 -0400 (Thu, 11 Sep 2025) EllapsedTime: 29.7 seconds RetCode: 0 Status: OK PackageFile: iPath_1.15.0.tgz PackageFileSize: 3.06 MiB