Package: iNETgrate Version: 1.7.0 Command: /home/biocbuild/R/R/bin/R CMD INSTALL iNETgrate StartedAt: 2025-10-02 21:29:25 -0000 (Thu, 02 Oct 2025) EndedAt: 2025-10-02 21:30:47 -0000 (Thu, 02 Oct 2025) EllapsedTime: 82.3 seconds RetCode: 0 Status: OK