Package: iNETgrate Version: 1.7.0 Command: /home/biocbuild/R/R/bin/R CMD build --keep-empty-dirs --no-resave-data iNETgrate StartedAt: 2025-10-03 00:45:07 -0000 (Fri, 03 Oct 2025) EndedAt: 2025-10-03 00:49:38 -0000 (Fri, 03 Oct 2025) EllapsedTime: 271.1 seconds RetCode: 0 Status: OK PackageFile: iNETgrate_1.7.0.tar.gz PackageFileSize: 3.967 MiB