Package: iNETgrate Version: 1.9.0 Command: /home/biocbuild/bbs-3.23-bioc/R/bin/R CMD check --install=check:iNETgrate.install-out.txt --library=/home/biocbuild/bbs-3.23-bioc/R/site-library --timings iNETgrate_1.9.0.tar.gz StartedAt: 2025-11-07 00:21:31 -0500 (Fri, 07 Nov 2025) EndedAt: 2025-11-07 00:39:07 -0500 (Fri, 07 Nov 2025) EllapsedTime: 1055.7 seconds RetCode: 0 Status: OK CheckDir: iNETgrate.Rcheck Warnings: 0