Package: iModMix Version: 1.1.0 Command: /home/biocbuild/bbs-3.23-bioc/R/bin/R CMD INSTALL iModMix StartedAt: 2025-11-20 15:44:03 -0500 (Thu, 20 Nov 2025) EndedAt: 2025-11-20 15:44:09 -0500 (Thu, 20 Nov 2025) EllapsedTime: 6.0 seconds RetCode: 0 Status: OK