Package: iModMix Version: 1.1.0 Command: /Library/Frameworks/R.framework/Resources/bin/R CMD INSTALL iModMix StartedAt: 2025-11-20 15:22:49 -0500 (Thu, 20 Nov 2025) EndedAt: 2025-11-20 15:22:52 -0500 (Thu, 20 Nov 2025) EllapsedTime: 3.1 seconds RetCode: 0 Status: OK