Package: iModMix Version: 1.1.0 Command: /Library/Frameworks/R.framework/Resources/bin/R CMD build --keep-empty-dirs --no-resave-data iModMix StartedAt: 2025-11-20 16:42:08 -0500 (Thu, 20 Nov 2025) EndedAt: 2025-11-20 16:42:23 -0500 (Thu, 20 Nov 2025) EllapsedTime: 15.2 seconds RetCode: 0 Status: OK PackageFile: iModMix_1.1.0.tar.gz PackageFileSize: 10.6 MiB