Package: iGC Version: 1.39.0 Command: /Library/Frameworks/R.framework/Resources/bin/R CMD INSTALL iGC StartedAt: 2025-10-03 15:02:48 -0400 (Fri, 03 Oct 2025) EndedAt: 2025-10-03 15:02:52 -0400 (Fri, 03 Oct 2025) EllapsedTime: 3.5 seconds RetCode: 0 Status: OK