Package: iClusterPlus Version: 1.47.0 Command: /home/biocbuild/bbs-3.23-bioc/R/bin/R CMD INSTALL iClusterPlus StartedAt: 2025-10-31 15:10:06 -0400 (Fri, 31 Oct 2025) EndedAt: 2025-10-31 15:10:34 -0400 (Fri, 31 Oct 2025) EllapsedTime: 27.4 seconds RetCode: 0 Status: OK