Package: iClusterPlus Version: 1.47.0 Command: /home/biocbuild/bbs-3.23-bioc/R/bin/R CMD check --install=check:iClusterPlus.install-out.txt --library=/home/biocbuild/bbs-3.23-bioc/R/site-library --timings iClusterPlus_1.47.0.tar.gz StartedAt: 2025-11-01 00:17:21 -0400 (Sat, 01 Nov 2025) EndedAt: 2025-11-01 00:18:37 -0400 (Sat, 01 Nov 2025) EllapsedTime: 76.1 seconds RetCode: 0 Status: OK CheckDir: iClusterPlus.Rcheck Warnings: 0