Package: iClusterPlus Version: 1.47.0 Command: /home/biocbuild/bbs-3.23-bioc/R/bin/R CMD build --keep-empty-dirs --no-resave-data iClusterPlus StartedAt: 2025-10-31 18:19:05 -0400 (Fri, 31 Oct 2025) EndedAt: 2025-10-31 18:19:34 -0400 (Fri, 31 Oct 2025) EllapsedTime: 29.0 seconds RetCode: 0 Status: OK PackageFile: iClusterPlus_1.47.0.tar.gz PackageFileSize: 20.69 MiB