Package: iChip Version: 1.65.0 Command: /home/biocbuild/bbs-3.23-bioc/R/bin/R CMD INSTALL iChip StartedAt: 2025-11-20 15:02:20 -0500 (Thu, 20 Nov 2025) EndedAt: 2025-11-20 15:02:32 -0500 (Thu, 20 Nov 2025) EllapsedTime: 12.2 seconds RetCode: 0 Status: OK