Package: iChip Version: 1.63.0 Command: /Library/Frameworks/R.framework/Resources/bin/R CMD build --keep-empty-dirs --no-resave-data iChip StartedAt: 2025-10-16 18:06:03 -0400 (Thu, 16 Oct 2025) EndedAt: 2025-10-16 18:06:53 -0400 (Thu, 16 Oct 2025) EllapsedTime: 49.4 seconds RetCode: 0 Status: OK PackageFile: iChip_1.63.0.tar.gz PackageFileSize: 1.708 MiB