Package: iChip Version: 1.63.0 Command: /Library/Frameworks/R.framework/Resources/bin/R CMD INSTALL iChip StartedAt: 2025-10-01 15:02:43 -0400 (Wed, 01 Oct 2025) EndedAt: 2025-10-01 15:02:47 -0400 (Wed, 01 Oct 2025) EllapsedTime: 3.5 seconds RetCode: 0 Status: OK