Package: iChip Version: 1.65.0 Maintainer: Qianxing Mo MaintainerEmail: qianxing.mo at moffitt.org git_url: https://git.bioconductor.org/packages/iChip git_branch: devel git_last_commit: 25217b9 git_last_commit_date: 2025-10-29 10:04:19 -0400 (Wed, 29 Oct 2025)