Package: iCheck Version: 1.39.0 Command: /home/biocbuild/bbs-3.22-bioc/R/bin/R CMD check --install=check:iCheck.install-out.txt --library=/home/biocbuild/bbs-3.22-bioc/R/site-library --timings iCheck_1.39.0.tar.gz StartedAt: 2025-10-22 00:56:13 -0400 (Wed, 22 Oct 2025) EndedAt: 2025-10-22 01:01:36 -0400 (Wed, 22 Oct 2025) EllapsedTime: 322.3 seconds RetCode: 0 Status: OK CheckDir: iCheck.Rcheck Warnings: 0