Package: iCheck Version: 1.41.0 Command: /home/biocbuild/bbs-3.23-bioc/R/bin/R CMD INSTALL iCheck StartedAt: 2025-10-31 16:16:33 -0400 (Fri, 31 Oct 2025) EndedAt: 2025-10-31 16:17:18 -0400 (Fri, 31 Oct 2025) EllapsedTime: 44.6 seconds RetCode: 0 Status: OK