Package: iCheck Version: 1.41.0 Command: /home/biocbuild/bbs-3.23-bioc/R/bin/R CMD build --keep-empty-dirs --no-resave-data iCheck StartedAt: 2025-10-31 18:19:00 -0400 (Fri, 31 Oct 2025) EndedAt: 2025-10-31 18:20:08 -0400 (Fri, 31 Oct 2025) EllapsedTime: 68.1 seconds RetCode: 0 Status: OK PackageFile: iCheck_1.41.0.tar.gz PackageFileSize: 559.9 KiB