Package: iCOBRA Version: 1.39.0 Command: /home/biocbuild/bbs-3.23-bioc/R/bin/R CMD INSTALL iCOBRA StartedAt: 2025-11-26 15:09:19 -0500 (Wed, 26 Nov 2025) EndedAt: 2025-11-26 15:09:31 -0500 (Wed, 26 Nov 2025) EllapsedTime: 11.9 seconds RetCode: 0 Status: OK