Package: iCOBRA Version: 1.39.0 Command: /Library/Frameworks/R.framework/Resources/bin/R CMD build --keep-empty-dirs --no-resave-data iCOBRA StartedAt: 2025-11-20 16:40:17 -0500 (Thu, 20 Nov 2025) EndedAt: 2025-11-20 16:40:28 -0500 (Thu, 20 Nov 2025) EllapsedTime: 11.1 seconds RetCode: 0 Status: OK PackageFile: iCOBRA_1.39.0.tar.gz PackageFileSize: 3.125 MiB