Package: iCOBRA Version: 1.39.0 Command: rm -rf iCOBRA.buildbin-libdir && mkdir iCOBRA.buildbin-libdir && /Users/biocbuild/BBS/utils/build-universal.sh iCOBRA_1.39.0.tar.gz /Library/Frameworks/R.framework/Resources/bin/R iCOBRA.buildbin-libdir StartedAt: 2025-11-20 23:37:18 -0500 (Thu, 20 Nov 2025) EndedAt: 2025-11-20 23:37:25 -0500 (Thu, 20 Nov 2025) EllapsedTime: 7.2 seconds RetCode: 0 Status: OK PackageFile: iCOBRA_1.39.0.tgz PackageFileSize: 2.739 MiB