Package: iCNV Version: 1.29.0 Command: /Library/Frameworks/R.framework/Resources/bin/R CMD build --keep-empty-dirs --no-resave-data iCNV StartedAt: 2025-10-16 16:55:48 -0400 (Thu, 16 Oct 2025) EndedAt: 2025-10-16 16:56:31 -0400 (Thu, 16 Oct 2025) EllapsedTime: 42.5 seconds RetCode: 0 Status: OK PackageFile: iCNV_1.29.0.tar.gz PackageFileSize: 2.361 MiB