Package: iCARE Version: 1.39.0 Command: /home/biocbuild/bbs-3.23-bioc/R/bin/R CMD build --keep-empty-dirs --no-resave-data iCARE StartedAt: 2025-11-20 18:08:52 -0500 (Thu, 20 Nov 2025) EndedAt: 2025-11-20 18:12:13 -0500 (Thu, 20 Nov 2025) EllapsedTime: 201.2 seconds RetCode: 0 Status: OK PackageFile: iCARE_1.39.0.tar.gz PackageFileSize: 1.42 MiB