Package: iCARE Version: 1.38.0 Command: /Library/Frameworks/R.framework/Resources/bin/R CMD INSTALL iCARE StartedAt: 2025-10-29 21:54:15 -0400 (Wed, 29 Oct 2025) EndedAt: 2025-10-29 21:55:01 -0400 (Wed, 29 Oct 2025) EllapsedTime: 46.5 seconds RetCode: 0 Status: OK