Package: iCARE Version: 1.38.0 Command: /Library/Frameworks/R.framework/Resources/bin/R CMD build --keep-empty-dirs --no-resave-data iCARE StartedAt: 2025-10-30 00:03:01 -0400 (Thu, 30 Oct 2025) EndedAt: 2025-10-30 00:07:19 -0400 (Thu, 30 Oct 2025) EllapsedTime: 258.2 seconds RetCode: 0 Status: OK PackageFile: iCARE_1.38.0.tar.gz PackageFileSize: 1.42 MiB