Package: iCARE Version: 1.38.0 Command: rm -rf iCARE.buildbin-libdir && mkdir iCARE.buildbin-libdir && /Users/biocbuild/BBS/utils/build-universal.sh iCARE_1.38.0.tar.gz /Library/Frameworks/R.framework/Resources/bin/R iCARE.buildbin-libdir StartedAt: 2025-10-30 08:20:55 -0400 (Thu, 30 Oct 2025) EndedAt: 2025-10-30 08:21:14 -0400 (Thu, 30 Oct 2025) EllapsedTime: 18.5 seconds RetCode: 0 Status: OK PackageFile: iCARE_1.38.0.tgz PackageFileSize: 1.507 MiB