Package: iCARE Version: 1.37.0 Command: /Library/Frameworks/R.framework/Resources/bin/R CMD INSTALL iCARE StartedAt: 2025-10-14 15:04:55 -0400 (Tue, 14 Oct 2025) EndedAt: 2025-10-14 15:05:03 -0400 (Tue, 14 Oct 2025) EllapsedTime: 7.9 seconds RetCode: 1 Status: ERROR