Package: iCARE Version: 1.37.0 Command: /Library/Frameworks/R.framework/Resources/bin/R CMD build --keep-empty-dirs --no-resave-data iCARE StartedAt: 2025-10-14 16:42:20 -0400 (Tue, 14 Oct 2025) EndedAt: 2025-10-14 16:42:21 -0400 (Tue, 14 Oct 2025) EllapsedTime: 1.0 seconds RetCode: 1 Status: ERROR PackageFile: None PackageFileSize: NA