Package: iBMQ Version: 1.51.0 Command: /home/biocbuild/bbs-3.23-bioc/R/bin/R CMD build --keep-empty-dirs --no-resave-data iBMQ StartedAt: 2025-10-31 18:18:41 -0400 (Fri, 31 Oct 2025) EndedAt: 2025-10-31 18:19:05 -0400 (Fri, 31 Oct 2025) EllapsedTime: 24.0 seconds RetCode: 0 Status: OK PackageFile: iBMQ_1.51.0.tar.gz PackageFileSize: 3.987 MiB