Package: iBBiG Version: 1.55.0 Command: /home/biocbuild/bbs-3.23-bioc/R/bin/R CMD INSTALL iBBiG StartedAt: 2025-11-21 15:11:12 -0500 (Fri, 21 Nov 2025) EndedAt: 2025-11-21 15:11:27 -0500 (Fri, 21 Nov 2025) EllapsedTime: 15.2 seconds RetCode: 0 Status: OK