Package: iBBiG Version: 1.55.0 Command: /home/biocbuild/bbs-3.23-bioc/R/bin/R CMD build --keep-empty-dirs --no-resave-data iBBiG StartedAt: 2025-11-21 18:08:13 -0500 (Fri, 21 Nov 2025) EndedAt: 2025-11-21 18:08:47 -0500 (Fri, 21 Nov 2025) EllapsedTime: 34.0 seconds RetCode: 0 Status: OK PackageFile: iBBiG_1.55.0.tar.gz PackageFileSize: 907.6 KiB