Package: iBBiG Version: 1.55.0 Command: /Library/Frameworks/R.framework/Resources/bin/R CMD INSTALL iBBiG StartedAt: 2025-11-21 15:06:10 -0500 (Fri, 21 Nov 2025) EndedAt: 2025-11-21 15:06:17 -0500 (Fri, 21 Nov 2025) EllapsedTime: 7.3 seconds RetCode: 0 Status: OK